BEGIN:VCALENDAR
VERSION:2.0
PRODID:-//35.189.55.126//NONSGML kigkonsult.se iCalcreator 2.26.9//
CALSCALE:GREGORIAN
METHOD:PUBLISH
X-FROM-URL:https://www.stc.org.nz
X-WR-TIMEZONE:Pacific/Auckland
BEGIN:VTIMEZONE
TZID:Pacific/Auckland
X-LIC-LOCATION:Pacific/Auckland
BEGIN:STANDARD
DTSTART:20200405T030000
TZOFFSETFROM:+1300
TZOFFSETTO:+1200
RDATE:20210404T030000
TZNAME:NZST
END:STANDARD
BEGIN:DAYLIGHT
DTSTART:20190929T020000
TZOFFSETFROM:+1200
TZOFFSETTO:+1300
RDATE:20200927T020000
TZNAME:NZDT
END:DAYLIGHT
END:VTIMEZONE
BEGIN:VEVENT
UID:ai1ec-1356@www.stc.org.nz
DTSTAMP:20191223T050429Z
CATEGORIES;LANGUAGE=en-US:Table Tennis
CONTACT:
DESCRIPTION:Come along & enjoy a game of table tennis\nEvery Wednesday nigh
 t at 7.00pm\n[ssboost]
DTSTART;TZID=Pacific/Auckland:20161228T070000
GEO:-39.590549;+174.28563
LOCATION:South Taranaki Club @ 43 Caledonia Street\, Hawera 4610\, New Zeal
 and
RRULE:FREQ=WEEKLY;BYDAY=WE;WKST=MO
SEQUENCE:0
SUMMARY:Table Tennis
URL:https://www.stc.org.nz/event/table-tennis/
X-ALT-DESC;FMTTYPE=text/html:<!DOCTYPE HTML PUBLIC '-//W3C//DTD HTML 3.2//E
 N'>\\n<HTML>\\n<HEAD>\\n<TITLE></TITLE>\\n</HEAD>\\n<BODY><p>Come along & 
 enjoy a game of table tennis</p>\n<p>Every Wednesday night at 7.00pm</p>\n
 [ssboost]\n</BODY></HTML>
X-INSTANT-EVENT:1
END:VEVENT
END:VCALENDAR
